BEGIN:VCALENDAR
VERSION:2.0
PRODID:-//Camacol Magdalena - ECPv6.15.20//NONSGML v1.0//EN
CALSCALE:GREGORIAN
METHOD:PUBLISH
X-WR-CALNAME:Camacol Magdalena
X-ORIGINAL-URL:https://camacolmagdalena.org.co
X-WR-CALDESC:Eventos para Camacol Magdalena
REFRESH-INTERVAL;VALUE=DURATION:PT1H
X-Robots-Tag:noindex
X-PUBLISHED-TTL:PT1H
BEGIN:VTIMEZONE
TZID:America/Bogota
BEGIN:STANDARD
TZOFFSETFROM:-0500
TZOFFSETTO:-0500
TZNAME:-05
DTSTART:20250101T000000
END:STANDARD
END:VTIMEZONE
BEGIN:VEVENT
DTSTART;VALUE=DATE:20260313
DTEND;VALUE=DATE:20260314
DTSTAMP:20260423T182905
CREATED:20260402T175703Z
LAST-MODIFIED:20260421T212110Z
UID:5715-1773360000-1773446399@camacolmagdalena.org.co
SUMMARY:Asamblea Regional de Afiliados
DESCRIPTION:Unidos por el desarrollo y la transparencia del gremio\nEspacio institucional de Camacol Magdalena en el que se evalúa el desempeño del gremio y se elige la Junta Directiva Regional. Este evento convoca a la totalidad de los afiliados\, convirtiéndose en el escenario más representativo de Camacol en la región. \nAdemás de su carácter estatutario\, la Asamblea es una oportunidad única para que las empresas patrocinadoras posicionen su marca ante todo el gremio constructor\, fortaleciendo su visibilidad y relacionamiento con los principales actores del sector. \nAudiencia:\n\nPropietarios y gerentes de constructoras\nAutoridades locales\nLíderes gremiales\nOrganizaciones promotoras del desarrollo en la ciudad
URL:https://camacolmagdalena.org.co/evento/asamblea-regional-de-afiliados/
ATTACH;FMTTYPE=image/jpeg:https://camacolmagdalena.org.co/wp-content/uploads/asamblea-regional-afiliados.jpg
END:VEVENT
END:VCALENDAR