BEGIN:VCALENDAR
VERSION:2.0
PRODID:-//Camacol Magdalena - ECPv6.15.20//NONSGML v1.0//EN
CALSCALE:GREGORIAN
METHOD:PUBLISH
X-ORIGINAL-URL:https://camacolmagdalena.org.co
X-WR-CALDESC:Eventos para Camacol Magdalena
REFRESH-INTERVAL;VALUE=DURATION:PT1H
X-Robots-Tag:noindex
X-PUBLISHED-TTL:PT1H
BEGIN:VTIMEZONE
TZID:America/Bogota
BEGIN:STANDARD
TZOFFSETFROM:-0500
TZOFFSETTO:-0500
TZNAME:-05
DTSTART:20250101T000000
END:STANDARD
END:VTIMEZONE
BEGIN:VEVENT
DTSTART;VALUE=DATE:20260401
DTEND;VALUE=DATE:20260405
DTSTAMP:20260423T172512
CREATED:20260421T212454Z
LAST-MODIFIED:20260421T212454Z
UID:6054-1775001600-1775347199@camacolmagdalena.org.co
SUMMARY:Feria Playa Camacol - Semana Santa
DESCRIPTION:Tu inversión frente al mar comienza aquí\nLa Feria Playa Camacol es el evento especializado más importante del Caribe colombiano para el sector de segunda vivienda y proyectos turísticos. Organizada por Camacol Magdalena\, esta feria se ha consolidado como el punto de encuentro estratégico para quienes buscan invertir en el potencial inmobiliario de Santa Marta y sus alrededores\, aprovechando el atractivo único de nuestras costas.\nEs una vitrina exclusiva donde la arquitectura\, el descanso y la rentabilidad se unen para ofrecer las mejores opciones de inversión en el departamento. \nAudiencia:\n\nEmpresas constructoras y de la cadena de valor del sector\nLíderes gremiales\nOrganizaciones promotoras del desarrollo en la ciudad
URL:https://camacolmagdalena.org.co/evento/feria-playa-camacol-semana-santa/
ATTACH;FMTTYPE=image/png:https://camacolmagdalena.org.co/wp-content/uploads/feria-playa-camacol.png
END:VEVENT
BEGIN:VEVENT
DTSTART;VALUE=DATE:20260402
DTEND;VALUE=DATE:20260403
DTSTAMP:20260423T172512
CREATED:20260402T191201Z
LAST-MODIFIED:20260406T172000Z
UID:5738-1775088000-1775174399@camacolmagdalena.org.co
SUMMARY:Ruta Camacol
DESCRIPTION:Pedaleando por el desarrollo: Un recorrido por la transformación de nuestra ciudad\nRuta Camacol es la gran rodada de integración donde el deporte y el urbanismo se encuentran en un mismo escenario. Esta competencia de ciclismo tiene como propósito recorrer los hitos más representativos de la ciudad\, permitiendo que los ciclistas profesionales\, aficionados y la comunidad en general sean testigos directos del desarrollo y la transformación urbana liderada por las constructoras del Magdalena. \nEs una jornada para disfrutar de la velocidad y el paisaje urbano\, reconociendo cómo cada proyecto ha contribuido a dibujar el nuevo horizonte de nuestra región mientras se promueve la movilidad sostenible y la vida activa. \n¿Qué hace única a la Ruta Camacol?\n\nVitrina Urbana en Movimiento: A diferencia de una carrera convencional\, el circuito está diseñado para pasar por las obras y zonas de mayor impacto urbanístico\, mostrando la cara moderna y pujante del departamento.\nInclusión Deportiva: Un evento abierto donde conviven el alto rendimiento de ciclistas profesionales con la pasión de los aficionados y la energía del público general.\nSentido de Pertenencia: Los participantes recorren las vías que conectan los proyectos donde viven\, trabajan o invierten\, fortaleciendo el vínculo entre el ciudadano y el crecimiento de su ciudad.\nLogística de Ciudad: Un despliegue coordinado que garantiza una ruta segura\, fluida y diseñada para resaltar la arquitectura y el diseño urbano del Magdalena.\n\n¿Por qué participar en la Ruta?\n\nDeporte con Propósito: Compite o rueda en un evento que celebra el progreso de la región y el esfuerzo de las manos que la construyen.\n\nReconocimiento del Territorio: Descubre nuevos ángulos de la ciudad y conoce de cerca los proyectos que están marcando tendencia en desarrollo inmobiliario. \n\nIntegración Ciudadana: Únete a una comunidad diversa que comparte el amor por el ciclismo y el orgullo por el crecimiento del Magdalena.\nExperiencia de Alto Nivel: Disfruta de un evento con el respaldo de Camacol\, garantizando estándares de calidad en cada kilómetro del recorrido.\n\nPerfil del Participante\n\nCiclistas Profesionales: Que buscan un reto competitivo en un circuito urbano de primer nivel.\nAficionados y entusiastas: Personas que disfrutan de la ruta y quieren ser parte de la gran fiesta del sector constructor.\nPúblico en General: Familias y ciudadanos interesados en el deporte y en conocer la evolución de su entorno urbano.
URL:https://camacolmagdalena.org.co/evento/ruta-camacol/
ATTACH;FMTTYPE=image/png:https://camacolmagdalena.org.co/wp-content/uploads/ruta-camacol.png
END:VEVENT
END:VCALENDAR