BEGIN:VCALENDAR
VERSION:2.0
PRODID:-//Camacol Magdalena - ECPv6.15.20//NONSGML v1.0//EN
CALSCALE:GREGORIAN
METHOD:PUBLISH
X-ORIGINAL-URL:https://camacolmagdalena.org.co
X-WR-CALDESC:Eventos para Camacol Magdalena
REFRESH-INTERVAL;VALUE=DURATION:PT1H
X-Robots-Tag:noindex
X-PUBLISHED-TTL:PT1H
BEGIN:VTIMEZONE
TZID:America/Bogota
BEGIN:STANDARD
TZOFFSETFROM:-0500
TZOFFSETTO:-0500
TZNAME:-05
DTSTART:20250101T000000
END:STANDARD
END:VTIMEZONE
BEGIN:VEVENT
DTSTART;VALUE=DATE:20260514
DTEND;VALUE=DATE:20260515
DTSTAMP:20260423T165602
CREATED:20260421T221600Z
LAST-MODIFIED:20260421T222251Z
UID:6073-1778716800-1778803199@camacolmagdalena.org.co
SUMMARY:Workshop de Innovación: Materiales para la Construcción Sostenible
DESCRIPTION:Materiales para la Construcción Sostenible\nEvento que reúne a proveedores y expertos en nuevos materiales y técnicas constructivas\nsostenibles. Un espacio que combina stands interactivos y charlas especializadas sobre\nsostenibilidad\, cementos verdes\, soluciones prefabricadas y aditivos innovadores. Las\nempresas patrocinadoras pueden destacar su marca y acceder a 45 minutos en la agenda para\npresentar sus tecnologías\, posicionándose como líderes en calidad\, eficiencia y compromiso\nambiental. \nAudiencia:\n\nPropietarios\, Gerentes Generales y Gerentes Comerciales de empresas de concreto\, cemento\, prefabricados y otros materiales.\nConstructores\, Ingenieros Civiles y Arquitectos
URL:https://camacolmagdalena.org.co/evento/workshop-de-innovacion-mcs/
ATTACH;FMTTYPE=image/webp:https://camacolmagdalena.org.co/wp-content/uploads/workshop.webp
END:VEVENT
END:VCALENDAR