BEGIN:VCALENDAR
VERSION:2.0
PRODID:-//Camacol Magdalena - ECPv6.15.20//NONSGML v1.0//EN
CALSCALE:GREGORIAN
METHOD:PUBLISH
X-WR-CALNAME:Camacol Magdalena
X-ORIGINAL-URL:https://camacolmagdalena.org.co
X-WR-CALDESC:Eventos para Camacol Magdalena
REFRESH-INTERVAL;VALUE=DURATION:PT1H
X-Robots-Tag:noindex
X-PUBLISHED-TTL:PT1H
BEGIN:VTIMEZONE
TZID:America/Bogota
BEGIN:STANDARD
TZOFFSETFROM:-0500
TZOFFSETTO:-0500
TZNAME:-05
DTSTART:20250101T000000
END:STANDARD
END:VTIMEZONE
BEGIN:VEVENT
DTSTART;VALUE=DATE:20261201
DTEND;VALUE=DATE:20261202
DTSTAMP:20260424T031207
CREATED:20260406T174217Z
LAST-MODIFIED:20260406T174217Z
UID:5757-1796083200-1796169599@camacolmagdalena.org.co
SUMMARY:Jornada de Despedida de Afiliados
DESCRIPTION:Balance\, reconocimiento y cierre de la gestión gremial\nLa Jornada de Despedida de Afiliados es el evento institucional de cierre de año de Camacol Magdalena. Este es el espacio oficial donde se presenta el balance general de la gestión gremial anual ante toda la comunidad de empresas vinculadas\, permitiendo conocer de primera mano los logros\, avances y el impacto del gremio en el desarrollo del sector. \nAdemás de ser un ejercicio de transparencia\, la jornada es el escenario para exaltar el compromiso empresarial\, realizando premiaciones especiales a los afiliados que han destacado por su labor en áreas fundamentales para el futuro de la industria. \nMomentos Clave de la Jornada\n\nBalance General de Gestión: Presentación detallada de los resultados y acciones realizadas por el gremio durante el año en favor de los afiliados y el sector constructor.\nPremiación a la Excelencia Social: Reconocimiento a las empresas que han implementado prácticas destacadas en temas sociales\, aportando al bienestar de la comunidad y sus colaboradores.\nReconocimiento a la Gestión Ambiental: Galardón a los afiliados que lideran proyectos y procesos con altos estándares de sostenibilidad y cuidado del entorno.\nEncuentro de Cierre: Un espacio de integración para despedir el año consolidando la unión entre los representantes del sector.\n\n¿Por qué asistir?\n\nConozca los Resultados: Obtenga una visión clara de cómo la gestión gremial ha impulsado la competitividad del sector durante el último año.\nReferentes de Éxito: Conozca los casos de éxito de las empresas premiadas en sostenibilidad y gestión social\, pilares hoy de la construcción moderna.\nFortalecimiento Institucional: Participe activamente en el cierre del ciclo anual\, reafirmando su pertenencia al gremio más influyente de la construcción.\n\nAudiencia\nEste evento está dirigido exclusivamente a la alta dirección: \n\nDirectivos de las empresas afiliadas a Camacol Magdalena.
URL:https://camacolmagdalena.org.co/evento/jornada-de-despedida-de-afiliados/
ATTACH;FMTTYPE=image/png:https://camacolmagdalena.org.co/wp-content/uploads/evento-2.png
END:VEVENT
END:VCALENDAR