BEGIN:VCALENDAR
VERSION:2.0
PRODID:-//Camacol Magdalena - ECPv6.15.20//NONSGML v1.0//EN
CALSCALE:GREGORIAN
METHOD:PUBLISH
X-WR-CALNAME:Camacol Magdalena
X-ORIGINAL-URL:https://camacolmagdalena.org.co
X-WR-CALDESC:Eventos para Camacol Magdalena
REFRESH-INTERVAL;VALUE=DURATION:PT1H
X-Robots-Tag:noindex
X-PUBLISHED-TTL:PT1H
BEGIN:VTIMEZONE
TZID:America/Bogota
BEGIN:STANDARD
TZOFFSETFROM:-0500
TZOFFSETTO:-0500
TZNAME:-05
DTSTART:20250101T000000
END:STANDARD
END:VTIMEZONE
BEGIN:VEVENT
DTSTART;VALUE=DATE:20261008
DTEND;VALUE=DATE:20261009
DTSTAMP:20260424T045134
CREATED:20260421T214432Z
LAST-MODIFIED:20260421T220742Z
UID:6063-1791417600-1791503999@camacolmagdalena.org.co
SUMMARY:Rueda de Negocios 360
DESCRIPTION:Conectando visiones para fortalecer el futuro del Magdalena\nEncuentro empresarial diseñado para que proveedores de bienes y servicios se reúnan de manera directa con hoteles\, universidades y centros comerciales de la región. Bajo un formato de reuniones ágiles 1 a 1 de 12 minutos\, este espacio facilita la presentación de portafolios\, la exploración de oportunidades y la creación de alianzas estratégicas.\nCon cupos limitados\, la Rueda de Negocios 360 es un escenario exclusivo para ampliar la red de clientes\, abrir mercado en nuevos sectores y consolidar relaciones comerciales de alto impacto.\n \nAudiencia:\n\njefes de compras y de mantenimiento de hoteles\, universidades y centros comerciales de la ciudad\, quienes cuentan con la capacidad de decisión sobre adquisiciones y contratación de servicios.
URL:https://camacolmagdalena.org.co/evento/rueda-de-negocios-360/
ATTACH;FMTTYPE=image/png:https://camacolmagdalena.org.co/wp-content/uploads/verano-constrcuccion-sostenible.png
END:VEVENT
BEGIN:VEVENT
DTSTART;VALUE=DATE:20261015
DTEND;VALUE=DATE:20261016
DTSTAMP:20260424T045134
CREATED:20260421T222132Z
LAST-MODIFIED:20260421T222132Z
UID:6077-1792022400-1792108799@camacolmagdalena.org.co
SUMMARY:Workshop de Innovación: Transformación Digital para la Construcción
DESCRIPTION:Transformación Digital para la Construcción\nEvento diseñado para empresas líderes en software y tecnología que buscan mostrar cómo sus soluciones están revolucionando el sector constructor. Un espacio que combina charlas de alto impacto y exhibiciones prácticas\, donde se presentan herramientas como BIM\, ERP\, inteligencia artificial y otras tendencias digitales. Las empresas patrocinadoras pueden posicionar su marca y acceder a 45 minutos en la agenda para demostrar cómo la transformación digital optimiza proyectos y procesos en la construcción. \nAudiencia:\n\nEmpresas de Software\, tecnología y soluciones digitales.\nPropietarios\, Gerentes Generales y Gerentes Comerciales de constructoras.\nConstructores\, Ingenieros Civiles\, Arquitectos y Diseñadores
URL:https://camacolmagdalena.org.co/evento/workshop-de-innovacion-transformacion-digital-para-la-construccion/
END:VEVENT
BEGIN:VEVENT
DTSTART;VALUE=DATE:20261112
DTEND;VALUE=DATE:20261113
DTSTAMP:20260424T045134
CREATED:20260406T173245Z
LAST-MODIFIED:20260421T212838Z
UID:5755-1794441600-1794527999@camacolmagdalena.org.co
SUMMARY:Gran Consejo Económico de la Construcción
DESCRIPTION:Análisis de cifras y tendencias para el liderazgo del sector\nEl Gran Consejo Económico de la Construcción es el escenario técnico y analítico de mayor relevancia para la industria en la región. Se define como un espacio especializado que permite revisar minuciosamente las cifras del sector y sus tendencias actuales\, proporcionando la base informativa necesaria para la toma de decisiones acertadas. \nEste consejo reúne a los actores clave que dinamizan la economía local\, facilitando una visión clara sobre el comportamiento del mercado y los indicadores que marcarán la ruta de crecimiento en el corto y mediano plazo. \nAudiencia:\n\nPropietarios\, Gerentes Generales y Gerentes Comerciales del sector constructor.\nAutoridades Locales con incidencia en la planeación y desarrollo.\nEmpresas de Servicios Públicos.\nOrganizaciones dedicadas al fortalecimiento y desarrollo económico de la ciudad.
URL:https://camacolmagdalena.org.co/evento/gran-consejo-economico-de-la-construccion/
ATTACH;FMTTYPE=image/png:https://camacolmagdalena.org.co/wp-content/uploads/evento-4.png
END:VEVENT
BEGIN:VEVENT
DTSTART;VALUE=DATE:20261125
DTEND;VALUE=DATE:20261128
DTSTAMP:20260424T045134
CREATED:20260406T174530Z
LAST-MODIFIED:20260406T174624Z
UID:5759-1795564800-1795823999@camacolmagdalena.org.co
SUMMARY:Expoinmobiliaria y Construcción
DESCRIPTION:El punto de encuentro entre la oferta y la demanda de vivienda\nExpoinmobiliaria y Construcción es el escenario comercial de mayor relevancia para el dinamismo habitacional de la región. Se define como un espacio diseñado específicamente para permitir la interacción efectiva entre la oferta de proyectos inmobiliarios de la ciudad y la creciente demanda de los ciudadanos. \nEste evento es la vitrina ideal donde las familias encuentran su futuro hogar y las constructoras consolidan sus metas comerciales en los segmentos que mueven el motor de la economía local. \n\nObjetivos del Evento\n\nInteracción Comercial Directa: Facilitar el contacto entre los desarrolladores inmobiliarios y los compradores potenciales en un solo lugar.\nImpulso a la Vivienda Social: Promover de manera estratégica la oferta dirigida al segmento VIS\, facilitando el acceso a la propiedad para miles de familias.\nDinamización del Estrato Medio: Fortalecer la comercialización de proyectos de estrato medio\, ofreciendo opciones variadas que se ajustan a las necesidades del mercado actual.\nFortalecimiento de la Cadena de Valor: Crear un ecosistema donde proveedores y constructores interactúan para mejorar la competitividad del sector.\n\n\n¿Por qué participar?\n\nConcentración de Demanda: Acceda a un flujo constante de público interesado específicamente en los segmentos de mayor rotación del mercado.\nVisibilidad de Marca: Posicione sus proyectos ante la ciudad como una solución habitacional de calidad y confianza.\nCierre de Negocios: Optimice sus procesos de venta gracias a la presencia de compradores decididos y con perfiles de inversión definidos.\n\n\nAudiencia\nEl evento está orientado a los actores estratégicos que impulsan estos segmentos: \n\nEmpresas Constructoras con proyectos VIS y estrato medio.\nEmpresas de la Cadena de Valor del sector que concentren sus actividades en estos mercados.
URL:https://camacolmagdalena.org.co/evento/expoinmobiliaria-y-construccion/
ATTACH;FMTTYPE=image/png:https://camacolmagdalena.org.co/wp-content/uploads/evento-5.png
END:VEVENT
BEGIN:VEVENT
DTSTART;VALUE=DATE:20261125
DTEND;VALUE=DATE:20261128
DTSTAMP:20260424T045134
CREATED:20260402T193316Z
LAST-MODIFIED:20260406T172649Z
UID:5751-1795564800-1795823999@camacolmagdalena.org.co
SUMMARY:Feria de Remodelación de Vivienda
DESCRIPTION:Transforma tus espacios con los expertos del sector\nLa Feria de Remodelación de Vivienda se consolida como la vitrina más importante de la región para quienes buscan darle una nueva vida a su hogar. Es el punto de encuentro estratégico diseñado para promover la compra de insumos\, materiales y servicios especializados\, conectando directamente a los mejores proveedores con las familias que desean transformar sus entornos. \nEste evento tiene como objetivo principal dinamizar el canal minorista de nuestro segmento de distribuidores e industriales\, ofreciendo una plataforma única donde la calidad\, la innovación y la asesoría técnica están al alcance de todos. \n¿Qué encontrarás en la Feria?\n\nExhibición Integral de Insumos: Una muestra completa de materiales de última tendencia\, desde acabados y pinturas hasta grifería y soluciones estructurales para el hogar.\nServicios Especializados: Contacto directo con expertos en diseño\, instalación y servicios técnicos para asegurar que cada remodelación cumpla con los más altos estándares.\nEl Poder del Canal Minorista: Acceso preferencial a la oferta de los distribuidores e industriales más importantes del país\, con soluciones adaptadas a presupuestos y necesidades reales.\nInspiración para tu Hogar: Un espacio pensado para que visualices el potencial de tus espacios\, ya sea que busques una pequeña actualización o una reforma integral.\n\n¿Por qué visitar la Feria?\n\nTodo en un solo lugar: Ahorra tiempo encontrando desde el material básico hasta el servicio de instalación más especializado en un mismo recinto.\nAsesoría de Expertos: Interactúa con los industriales y distribuidores que conocen a fondo el comportamiento de los materiales en nuestro clima y entorno.\nCalidad Garantizada: Al ser un evento respaldado por el gremio\, tienes la seguridad de contactar con empresas legalmente constituidas y con productos certificados.\nIdeas para Ampliar y Mejorar: Encuentra soluciones prácticas y estéticas para ampliar tus habitaciones\, modernizar tu cocina o mejorar la eficiencia de tu vivienda.\n\nAudiencia\nEste evento está diseñado para el público en general que tenga el deseo de: \n\nRemodelar: Cambiar el estilo y la funcionalidad de sus espacios actuales.\nAmpliar: Generar nuevos metros cuadrados de bienestar en su propiedad.\nMejorar: Elevar la valorización y la calidad de vida en su vivienda.
URL:https://camacolmagdalena.org.co/evento/feria-de-remodelacion-de-vivienda/
ATTACH;FMTTYPE=image/png:https://camacolmagdalena.org.co/wp-content/uploads/feria-remodelacion.png
END:VEVENT
BEGIN:VEVENT
DTSTART;VALUE=DATE:20261126
DTEND;VALUE=DATE:20261127
DTSTAMP:20260424T045134
CREATED:20260402T192259Z
LAST-MODIFIED:20260421T213024Z
UID:5745-1795651200-1795737599@camacolmagdalena.org.co
SUMMARY:Foro Santa Marta Ciudad de Calidad
DESCRIPTION:Planeación y visión estratégica para el desarrollo del territorio\nEste es un espacio organizado por la Regional que permite evaluar herramientas de gestión urbana articuladas con la visión del sector constructor\, la academia y organizaciones multilaterales. El propósito central es planear e influenciar en la toma de decisiones del territorio en materia de desarrollo urbano e inmobiliario. \nAudiencia:\n\nPropietarios y gerentes de empresas constructoras e industriales.\nDistribuidores del sector.\nRepresentantes del sector académico.\nAutoridades locales y líderes gremiales.
URL:https://camacolmagdalena.org.co/evento/foro-santa-marta-ciudad-de-alidad/
ATTACH;FMTTYPE=image/png:https://camacolmagdalena.org.co/wp-content/uploads/foro-santa-marta.png
END:VEVENT
BEGIN:VEVENT
DTSTART;VALUE=DATE:20261201
DTEND;VALUE=DATE:20261202
DTSTAMP:20260424T045134
CREATED:20260406T174217Z
LAST-MODIFIED:20260406T174217Z
UID:5757-1796083200-1796169599@camacolmagdalena.org.co
SUMMARY:Jornada de Despedida de Afiliados
DESCRIPTION:Balance\, reconocimiento y cierre de la gestión gremial\nLa Jornada de Despedida de Afiliados es el evento institucional de cierre de año de Camacol Magdalena. Este es el espacio oficial donde se presenta el balance general de la gestión gremial anual ante toda la comunidad de empresas vinculadas\, permitiendo conocer de primera mano los logros\, avances y el impacto del gremio en el desarrollo del sector. \nAdemás de ser un ejercicio de transparencia\, la jornada es el escenario para exaltar el compromiso empresarial\, realizando premiaciones especiales a los afiliados que han destacado por su labor en áreas fundamentales para el futuro de la industria. \nMomentos Clave de la Jornada\n\nBalance General de Gestión: Presentación detallada de los resultados y acciones realizadas por el gremio durante el año en favor de los afiliados y el sector constructor.\nPremiación a la Excelencia Social: Reconocimiento a las empresas que han implementado prácticas destacadas en temas sociales\, aportando al bienestar de la comunidad y sus colaboradores.\nReconocimiento a la Gestión Ambiental: Galardón a los afiliados que lideran proyectos y procesos con altos estándares de sostenibilidad y cuidado del entorno.\nEncuentro de Cierre: Un espacio de integración para despedir el año consolidando la unión entre los representantes del sector.\n\n¿Por qué asistir?\n\nConozca los Resultados: Obtenga una visión clara de cómo la gestión gremial ha impulsado la competitividad del sector durante el último año.\nReferentes de Éxito: Conozca los casos de éxito de las empresas premiadas en sostenibilidad y gestión social\, pilares hoy de la construcción moderna.\nFortalecimiento Institucional: Participe activamente en el cierre del ciclo anual\, reafirmando su pertenencia al gremio más influyente de la construcción.\n\nAudiencia\nEste evento está dirigido exclusivamente a la alta dirección: \n\nDirectivos de las empresas afiliadas a Camacol Magdalena.
URL:https://camacolmagdalena.org.co/evento/jornada-de-despedida-de-afiliados/
ATTACH;FMTTYPE=image/png:https://camacolmagdalena.org.co/wp-content/uploads/evento-2.png
END:VEVENT
BEGIN:VEVENT
DTSTART;VALUE=DATE:20261206
DTEND;VALUE=DATE:20261207
DTSTAMP:20260424T045134
CREATED:20260406T180248Z
LAST-MODIFIED:20260406T180403Z
UID:5761-1796515200-1796601599@camacolmagdalena.org.co
SUMMARY:Jornada del trabajador de la Construcción
DESCRIPTION:Reconocimiento y gratitud a la fuerza que construye nuestra región\nLa Jornada del trabajador de la Construcción es el espacio oficial de Camacol Magdalena dedicado a honrar el esfuerzo\, la dedicación y la maestría de quienes están en el frente de trabajo de cada edificación. Se define como un evento que resalta la labor de los trabajadores de la construcción\, reconociendo su importancia como el pilar fundamental de la industria inmobiliaria y urbana. \nA través de este encuentro\, el gremio busca dignificar el oficio y fortalecer el sentido de pertenencia de aquellos que\, con su trabajo diario\, transforman los planos en realidades tangibles para la ciudad. \nMomentos Destacados de la Jornada\n\nActividades Especiales: Un programa diseñado para el bienestar y la integración de los trabajadores fuera de su entorno cotidiano de obra.\nPremiaciones: Entrega de galardones y reconocimientos a la excelencia\, el compromiso y la labor destacada en las diferentes etapas constructivas.\nEspacios de Integración: Fomenta el compañerismo y la unión entre los diferentes equipos de trabajo del sector.\n\n¿Por qué es importante este evento?\n\nDignificación de la Labor: Pone en primer plano la importancia social y económica del trabajador operativo en el desarrollo regional.\nMotivación y Bienestar: Genera incentivos positivos que impactan en el clima laboral y la productividad de los proyectos.\nFomento de la Excelencia: Las premiaciones incentivan la adopción de mejores prácticas y el orgullo por la calidad técnica en el trabajo realizado.\n\nAudiencia\nEste evento está dirigido exclusivamente a: \n\nMaestros de obra.\nAuxiliares de obra.
URL:https://camacolmagdalena.org.co/evento/jornada-del-trabajador-de-la-construccion/
ATTACH;FMTTYPE=image/png:https://camacolmagdalena.org.co/wp-content/uploads/trabajadores.png
END:VEVENT
BEGIN:VEVENT
DTSTART;VALUE=DATE:20270212
DTEND;VALUE=DATE:20270215
DTSTAMP:20260424T045134
CREATED:20260402T173659Z
LAST-MODIFIED:20260402T174413Z
UID:5708-1802390400-1802649599@camacolmagdalena.org.co
SUMMARY:Jornada Regional de la Construcción
DESCRIPTION:El epicentro de la construcción y la inversión en el Caribe\nLa Construferia es la vitrina comercial y de negocios más importante del sector constructor en el departamento del Magdalena. Organizada por Camacol Magdalena\, este evento anual reúne en un solo lugar a los protagonistas de la cadena de valor: desde las constructoras con los proyectos más innovadores\, hasta entidades financieras y proveedores de insumos líderes en el mercado. \nEste es el espacio donde el desarrollo urbano de Santa Marta y sus alrededores se conecta con las familias que buscan un hogar y los inversionistas que ven en el Magdalena un polo de crecimiento estratégico. \n¿Por qué asistir a la Construferia?\n\nOferta Inmobiliaria Integral: Explora de primera mano los lanzamientos y proyectos de vivienda (VIS y No VIS)\, turísticos y comerciales más destacados de la región.\nAsesoría Financiera Inmediata: Contamos con la participación de los principales bancos y cajas de compensación para que consultes opciones de crédito\, tasas preferenciales y acceso a subsidios de vivienda vigentes.\nTendencias e Innovación: Conoce las nuevas propuestas en arquitectura sostenible\, materiales de vanguardia y tecnologías aplicadas a la construcción que están transformando nuestra ciudad.\nNetworking de Alto Nivel: Un espacio diseñado para fortalecer alianzas estratégicas entre profesionales\, industriales y empresarios del sector.
URL:https://camacolmagdalena.org.co/evento/jornada-regional-de-la-construccion/
ATTACH;FMTTYPE=image/png:https://camacolmagdalena.org.co/wp-content/uploads/jornada-regional-de-construccion.png
END:VEVENT
END:VCALENDAR