BEGIN:VCALENDAR
VERSION:2.0
PRODID:-//Camacol Magdalena - ECPv6.15.20//NONSGML v1.0//EN
CALSCALE:GREGORIAN
METHOD:PUBLISH
X-WR-CALNAME:Camacol Magdalena
X-ORIGINAL-URL:https://camacolmagdalena.org.co
X-WR-CALDESC:Eventos para Camacol Magdalena
REFRESH-INTERVAL;VALUE=DURATION:PT1H
X-Robots-Tag:noindex
X-PUBLISHED-TTL:PT1H
BEGIN:VTIMEZONE
TZID:America/Bogota
BEGIN:STANDARD
TZOFFSETFROM:-0500
TZOFFSETTO:-0500
TZNAME:-05
DTSTART:20250101T000000
END:STANDARD
END:VTIMEZONE
BEGIN:VEVENT
DTSTART;VALUE=DATE:20260515
DTEND;VALUE=DATE:20260916
DTSTAMP:20260423T183926
CREATED:20260415T195420Z
LAST-MODIFIED:20260421T220449Z
UID:6002-1778803200-1789516799@camacolmagdalena.org.co
SUMMARY:Camacol Verde
DESCRIPTION:Espacio académico enfocado en el diseño y construcción de edificaciones sostenibles bajo estándares EDGE y LEED\, y en la elaboración de proyectos en entornos digitales (BIM). Un evento que combina conocimiento técnico con la oportunidad de posicionar tu marca y acceder a 45 minutos en la agenda para presentar soluciones innovadoras en sostenibilidad. \nAudiencia:\n\nPropietarios y Gerentes Generales del sector constructor.\nArquitectos y diseñadores.\nDirectores de Obra
URL:https://camacolmagdalena.org.co/evento/camacol-verde/
ATTACH;FMTTYPE=image/webp:https://camacolmagdalena.org.co/wp-content/uploads/camacol-verde-magdalena.webp
END:VEVENT
BEGIN:VEVENT
DTSTART;VALUE=DATE:20260628
DTEND;VALUE=DATE:20260629
DTSTAMP:20260423T183926
CREATED:20260402T183646Z
LAST-MODIFIED:20260402T184911Z
UID:5732-1782604800-1782691199@camacolmagdalena.org.co
SUMMARY:Escuela de Verano de Construcción Sostenible
DESCRIPTION:Liderando la transformación verde y la rentabilidad ambiental\nLa Escuela de Verano de Construcción Sostenible es el espacio de formación de alto nivel de Camacol Magdalena dedicado a la actualización en prácticas constructivas que equilibran el desarrollo urbano con la preservación del entorno. Para los dueños y gerentes de constructoras\, este evento representa la oportunidad de alinear sus proyectos con los estándares internacionales de sostenibilidad\, mejorando no solo el impacto ambiental sino también la eficiencia operativa y el valor comercial de sus edificaciones. \nA través de sesiones intensivas\, los líderes del sector exploran cómo la implementación de criterios ambientales se traduce en beneficios tributarios\, ahorros en recursos y una mejor reputación de marca ante un mercado cada vez más consciente. \nEjes Estratégicos de la Escuela\n\nEficiencia Energética y de Recursos: Estrategias para reducir el consumo de agua y energía desde el diseño\, optimizando los costos operativos a largo plazo del inmueble.\nCertificaciones Ambientales: Guía práctica sobre procesos de certificación (como EDGE o LEED)\, beneficios financieros y acceso a líneas de crédito verde para constructores.\nMateriales de Bajo Impacto: Conocimiento de nuevas tecnologías y materiales sostenibles que mejoran el rendimiento térmico y acústico de las obras en el Caribe.\nNormativa y Política Pública: Actualización sobre las regulaciones locales y nacionales que incentivan la construcción sostenible en Colombia.\n\n¿Por qué es clave para la Alta Gerencia?\n\nValorización del Proyecto: Los proyectos con sellos de sostenibilidad tienen una mayor velocidad de venta y una valorización superior en el mercado inmobiliario actual.\nIncentivos Financieros: Conoce cómo acceder a tasas preferenciales y beneficios tributarios por la implementación de soluciones de construcción verde.\nReducción de Huella de Carbono: Posiciona a tu constructora como una empresa responsable y líder en la mitigación del cambio climático en la región.\nNetworking Especializado: Conecta con expertos en consultoría ambiental y proveedores de tecnologías sostenibles para crear alianzas de alto impacto.\n\nPerfil del Asistente\n\nDueños\, socios y gerentes generales de empresas constructoras.\nDirectores de planeación\, diseño y proyectos.\nProfesionales de la cadena de valor interesados en sostenibilidad y eficiencia energética.
URL:https://camacolmagdalena.org.co/evento/escuela-de-verano-de-construccion-sostenible/
ATTACH;FMTTYPE=image/png:https://camacolmagdalena.org.co/wp-content/uploads/verano-constrcuccion-sostenible.png
END:VEVENT
END:VCALENDAR